BEGIN:VCALENDAR
VERSION:2.0
PRODID:-//Digital Nomads - ECPv6.6.4.2//NONSGML v1.0//EN
CALSCALE:GREGORIAN
METHOD:PUBLISH
X-WR-CALNAME:Digital Nomads
X-ORIGINAL-URL:https://workfromgreece.gr
X-WR-CALDESC:Events for Digital Nomads
REFRESH-INTERVAL;VALUE=DURATION:PT1H
X-Robots-Tag:noindex
X-PUBLISHED-TTL:PT1H
BEGIN:VTIMEZONE
TZID:Europe/Athens
BEGIN:DAYLIGHT
TZOFFSETFROM:+0200
TZOFFSETTO:+0300
TZNAME:EEST
DTSTART:20250330T010000
END:DAYLIGHT
BEGIN:STANDARD
TZOFFSETFROM:+0300
TZOFFSETTO:+0200
TZNAME:EET
DTSTART:20251026T010000
END:STANDARD
END:VTIMEZONE
BEGIN:VEVENT
DTSTART;VALUE=DATE:20250927
DTEND;VALUE=DATE:20251019
DTSTAMP:20260425T033434
CREATED:20250528T110224Z
LAST-MODIFIED:20250528T121358Z
UID:3779-1758931200-1760831999@workfromgreece.gr
SUMMARY:Remote in Parga 2025
DESCRIPTION:Tucked between turquoise waters and gorgeous little villages\, this coastal gem invites you to start your mornings with a swim and end them with fresh seafood and slow sunsets. With ancient ruins nearby and Ionian charm all around\, it’s the perfect setting to wrap up the season—calm\, inspired\, and connected. For those who want to work with a view and live with intention\, Parga is your autumn escape. \n\nRemote working\nWeekend Activities\nDiscover local places and traditions\n\nYou can click on the link below to fill out the form and let us know your accommodation preferences and preferred period. \nApply to join!
URL:https://workfromgreece.gr/event/remote-in-parga-2025/
LOCATION:Parga\, Parga\, Epirus\, 48060\, Greece
CATEGORIES:Digital Nomad Communities
ATTACH;FMTTYPE=image/jpeg:https://workfromgreece.gr/wp-content/uploads/2025/05/Remote-in-Parga-2025.jpg
END:VEVENT
END:VCALENDAR