BEGIN:VCALENDAR
VERSION:2.0
PRODID:-//Digital Nomads - ECPv6.6.4.2//NONSGML v1.0//EN
CALSCALE:GREGORIAN
METHOD:PUBLISH
X-ORIGINAL-URL:https://workfromgreece.gr
X-WR-CALDESC:Events for Digital Nomads
REFRESH-INTERVAL;VALUE=DURATION:PT1H
X-Robots-Tag:noindex
X-PUBLISHED-TTL:PT1H
BEGIN:VTIMEZONE
TZID:Europe/Athens
BEGIN:DAYLIGHT
TZOFFSETFROM:+0200
TZOFFSETTO:+0300
TZNAME:EEST
DTSTART:20250330T010000
END:DAYLIGHT
BEGIN:STANDARD
TZOFFSETFROM:+0300
TZOFFSETTO:+0200
TZNAME:EET
DTSTART:20251026T010000
END:STANDARD
END:VTIMEZONE
BEGIN:VEVENT
DTSTART;VALUE=DATE:20251013
DTEND;VALUE=DATE:20251113
DTSTAMP:20260425T021954
CREATED:20250901T085153Z
LAST-MODIFIED:20250901T085153Z
UID:3879-1760313600-1762991999@workfromgreece.gr
SUMMARY:Pop Up Coliving
DESCRIPTION:The 3rd Pop-Up Coliving is taking place on the beautiful Greek island of Rhodes for a whole month! \nWhat to Expect: \n\nCoworking Around the Island:\nSet up your workspace indoors or outdoors at the coliving space\, or head to one of the local coffee shops in town or by the beach.\nSports and Exercise:\nEnjoy sunrise runs on the beach or afternoon yoga sessions in the backyard\nHigh-Speed Wi-Fi:\nStay connected effortlessly with reliable\, high-speed Wi-Fi throughout your pop-up coliving adventure\nAdventure Excursions:\nExplore iconic Greek landmarks and hike through breathtaking gorges deep in the mountains\nThriving Community:\nShare this unique journey with like-minded travelers and digital nomads while building friendships and meaningful connections\nLocal Culture:\nImmerse yourself in the local culture\, savoring both the rich history and the authentic flavors of Greece\n\nBook Your Spot: https://popupcoliving.com/#request-booking
URL:https://workfromgreece.gr/event/pop-up-coliving/
LOCATION:Rhodes\, Rhodes\, Rhodes\, Greece
ATTACH;FMTTYPE=image/jpeg:https://workfromgreece.gr/wp-content/uploads/2021/11/View-of-medieval-castle-in-Rhodes-thing-to-do-in-rhodes.jpg
END:VEVENT
END:VCALENDAR