BEGIN:VCALENDAR
VERSION:2.0
PRODID:-//Digital Nomads - ECPv6.6.4.2//NONSGML v1.0//EN
CALSCALE:GREGORIAN
METHOD:PUBLISH
X-WR-CALNAME:Digital Nomads
X-ORIGINAL-URL:https://workfromgreece.gr
X-WR-CALDESC:Events for Digital Nomads
REFRESH-INTERVAL;VALUE=DURATION:PT1H
X-Robots-Tag:noindex
X-PUBLISHED-TTL:PT1H
BEGIN:VTIMEZONE
TZID:Europe/Athens
BEGIN:DAYLIGHT
TZOFFSETFROM:+0200
TZOFFSETTO:+0300
TZNAME:EEST
DTSTART:20240331T010000
END:DAYLIGHT
BEGIN:STANDARD
TZOFFSETFROM:+0300
TZOFFSETTO:+0200
TZNAME:EET
DTSTART:20241027T010000
END:STANDARD
BEGIN:DAYLIGHT
TZOFFSETFROM:+0200
TZOFFSETTO:+0300
TZNAME:EEST
DTSTART:20250330T010000
END:DAYLIGHT
BEGIN:STANDARD
TZOFFSETFROM:+0300
TZOFFSETTO:+0200
TZNAME:EET
DTSTART:20251026T010000
END:STANDARD
END:VTIMEZONE
BEGIN:VEVENT
DTSTART;VALUE=DATE:20251101
DTEND;VALUE=DATE:20251123
DTSTAMP:20260425T152731
CREATED:20241206T111702Z
LAST-MODIFIED:20250528T121410Z
UID:3741-1761955200-1763855999@workfromgreece.gr
SUMMARY:Remote in Thessaloniki 2025
DESCRIPTION:Back for its third year\, our Thessaloniki community is a reunion of minds\, hearts\, and ideas. This project gathers past Tursi Digital Nomads members and new faces alike in Greece’s most vibrant northern city—where creativity flows as easily as the tsipouro. \nDesigned for entrepreneurs and city lovers\, this edition is full of masterminds\, workshops\, and deep dives with local startups. Add to that legendary street food\, sea views\, and a buzzing cafe scene\, and you’ve got your November reset—urban\, bold\, and beautifully connected.
URL:https://workfromgreece.gr/event/remote-in-thessaloniki/
LOCATION:Thessaloniki\, Thessaloniki\, Thessaloniki\, Macedonia\, Greece
CATEGORIES:Digital Nomad Communities
ATTACH;FMTTYPE=image/jpeg:https://workfromgreece.gr/wp-content/uploads/2024/12/Remote-in-Thessaloniki.jpg
END:VEVENT
BEGIN:VEVENT
DTSTART;VALUE=DATE:20251013
DTEND;VALUE=DATE:20251113
DTSTAMP:20260425T152731
CREATED:20250901T085153Z
LAST-MODIFIED:20250901T085153Z
UID:3879-1760313600-1762991999@workfromgreece.gr
SUMMARY:Pop Up Coliving
DESCRIPTION:The 3rd Pop-Up Coliving is taking place on the beautiful Greek island of Rhodes for a whole month! \nWhat to Expect: \n\nCoworking Around the Island:\nSet up your workspace indoors or outdoors at the coliving space\, or head to one of the local coffee shops in town or by the beach.\nSports and Exercise:\nEnjoy sunrise runs on the beach or afternoon yoga sessions in the backyard\nHigh-Speed Wi-Fi:\nStay connected effortlessly with reliable\, high-speed Wi-Fi throughout your pop-up coliving adventure\nAdventure Excursions:\nExplore iconic Greek landmarks and hike through breathtaking gorges deep in the mountains\nThriving Community:\nShare this unique journey with like-minded travelers and digital nomads while building friendships and meaningful connections\nLocal Culture:\nImmerse yourself in the local culture\, savoring both the rich history and the authentic flavors of Greece\n\nBook Your Spot: https://popupcoliving.com/#request-booking
URL:https://workfromgreece.gr/event/pop-up-coliving/
LOCATION:Rhodes\, Rhodes\, Rhodes\, Greece
ATTACH;FMTTYPE=image/jpeg:https://workfromgreece.gr/wp-content/uploads/2021/11/View-of-medieval-castle-in-Rhodes-thing-to-do-in-rhodes.jpg
END:VEVENT
BEGIN:VEVENT
DTSTART;VALUE=DATE:20250927
DTEND;VALUE=DATE:20251019
DTSTAMP:20260425T152732
CREATED:20250528T110224Z
LAST-MODIFIED:20250528T121358Z
UID:3779-1758931200-1760831999@workfromgreece.gr
SUMMARY:Remote in Parga 2025
DESCRIPTION:Tucked between turquoise waters and gorgeous little villages\, this coastal gem invites you to start your mornings with a swim and end them with fresh seafood and slow sunsets. With ancient ruins nearby and Ionian charm all around\, it’s the perfect setting to wrap up the season—calm\, inspired\, and connected. For those who want to work with a view and live with intention\, Parga is your autumn escape. \n\nRemote working\nWeekend Activities\nDiscover local places and traditions\n\nYou can click on the link below to fill out the form and let us know your accommodation preferences and preferred period. \nApply to join!
URL:https://workfromgreece.gr/event/remote-in-parga-2025/
LOCATION:Parga\, Parga\, Epirus\, 48060\, Greece
CATEGORIES:Digital Nomad Communities
ATTACH;FMTTYPE=image/jpeg:https://workfromgreece.gr/wp-content/uploads/2025/05/Remote-in-Parga-2025.jpg
END:VEVENT
BEGIN:VEVENT
DTSTART;VALUE=DATE:20250912
DTEND;VALUE=DATE:20250920
DTSTAMP:20260425T152732
CREATED:20241206T110018Z
LAST-MODIFIED:20250829T095054Z
UID:3732-1757635200-1758326399@workfromgreece.gr
SUMMARY:Athens Nomad Fest 2025
DESCRIPTION:The Athens Nomad Fest returns for its second edition in the heart of Greece’s capital. \nThis year’s  8-day festival is packed with exciting activities\, keynotes\, and immersive experiences. The first three days are dedicated to engaging with expert speakers\, attending masterminds and unconferences\, and connecting with fellow attendees. For the remaining days\, we dive deeper into the Athens experience with sightseeing\, community-building activities\, networking dinners\, and plenty of opportunities to unwind and socialize. \n\nDates and Location: September 12-19\, 2025\, in Athens\, Greece.\nProgram Highlights:\n\nInspiring Talks: Gain insights from industry leaders and experts.\nMastermind Groups: Collaborate and solve challenges with peers.\nNetworking Opportunities: Connect with like-minded digital nomads and entrepreneurs.\nCommunity-building Activities: Enjoy social events\, including dinners and live DJ sets\, city tours\, outdoor adventures and a Greek island retreat.
URL:https://workfromgreece.gr/event/athens-nomad-fest-2025/
LOCATION:The Hub Events\, 5 Alkminis str.\, Athens\, 11854\, Greece
CATEGORIES:Nomad Festival
ATTACH;FMTTYPE=image/jpeg:https://workfromgreece.gr/wp-content/uploads/2024/12/Events-Header.jpeg
ORGANIZER;CN="ATHENS NOMAD FEST":MAILTO:info@athensnomadfest.com
END:VEVENT
BEGIN:VEVENT
DTSTART;VALUE=DATE:20250906
DTEND;VALUE=DATE:20250921
DTSTAMP:20260425T152732
CREATED:20250528T105326Z
LAST-MODIFIED:20250829T120059Z
UID:3772-1757116800-1758412799@workfromgreece.gr
SUMMARY:Remote in the Peloponnese
DESCRIPTION:Join our community of remote workers in the village of Raftis\, in the region of Μountainous Arcadia. \n\nRemote working\nWeekend Activities\nDiscover local places and traditions\n\nYou can click on the link below to fill out the form and let us know your accommodation preferences and preferred period. \nApply to join!
URL:https://workfromgreece.gr/event/remote-in-peloponnese-2025/
LOCATION:Dimitra’s Resort\, Ράφτης\, 220 28
CATEGORIES:Digital Nomad Communities
ATTACH;FMTTYPE=image/png:https://workfromgreece.gr/wp-content/uploads/2025/05/Remote-in-Peloponnese-2025.png
END:VEVENT
BEGIN:VEVENT
DTSTART;VALUE=DATE:20250302
DTEND;VALUE=DATE:20250331
DTSTAMP:20260425T152732
CREATED:20241206T104102Z
LAST-MODIFIED:20241206T114544Z
UID:3725-1740873600-1743379199@workfromgreece.gr
SUMMARY:AVNEA Nomad Village Crete
DESCRIPTION:1 MONTH | 20 PEOPLE | VILLAGE CO-LIVING | RE(CONNECT) | WELLBEING | PERSONAL GROWTH | BUSINESS GROWTH \nJoin AVNEA for two weeks or one month during this amazing co-living experience. Embrace cretan village life with 20 professionals\, focusing on personal growth\, overall wellbeing and community. All this amongst the olive trees in Crete\, Greece.
URL:https://workfromgreece.gr/event/avnea-nomad-village-crete/
LOCATION:Zaros village\, Zaros\, Heraklion\, Crete\, 700 02\, Greece
CATEGORIES:Nomad Festival
ATTACH;FMTTYPE=image/jpeg:https://workfromgreece.gr/wp-content/uploads/2024/12/AVNEA-Nomad-Village-Crete.jpg
ORGANIZER;CN="AVNEA":MAILTO:lotus@avnea.com
END:VEVENT
BEGIN:VEVENT
DTSTART;VALUE=DATE:20241005
DTEND;VALUE=DATE:20241106
DTSTAMP:20260425T152732
CREATED:20240917T115325Z
LAST-MODIFIED:20240917T115511Z
UID:3682-1728086400-1730851199@workfromgreece.gr
SUMMARY:Popup Coliving
DESCRIPTION:Welcome to a thriving pop-up co-living experience in the Peloponnese. This experience is not just a getaway; it’s an international adventure shared with like-minded people! \nDuring your stay\, you will have the opportunity to: \n– Connect with a vibrant community of fellow travellers and digital nomads\n– Immerse yourself in the local culture\, savouring the history and flavours of Greece.\n– Embark on thrilling adventures and explore Greece’s treasures\n– Relax and unwind by the accommodation’s pool as you soak in the Greek sun\n– Elevate your remote work experience by enjoying dedicated co-working spaces.\n– Stay connected effortlessly with high-speed Wi-Fi during your pop-up coliving adventure. \nBooking Request
URL:https://workfromgreece.gr/event/popup-coliving/
LOCATION:Hotel Artina\, Marathopoli\, Messinia\, 24400
CATEGORIES:Nomad Festival
ATTACH;FMTTYPE=image/jpeg:https://workfromgreece.gr/wp-content/uploads/2024/09/Popup-Coliving.jpg
END:VEVENT
BEGIN:VEVENT
DTSTART;VALUE=DATE:20241005
DTEND;VALUE=DATE:20241021
DTSTAMP:20260425T152732
CREATED:20240917T113914Z
LAST-MODIFIED:20240917T114507Z
UID:3676-1728086400-1729468799@workfromgreece.gr
SUMMARY:Avnea Village Central Greece
DESCRIPTION:Imagine waking up in a village surrounded by forrest and mountains\, working alongside a supportive community of passionate professionals\, and fully immersing yourself in the richness of Greek culture. Welcome to Avnea Nomad Village\, where we combine remote work with village life\, community and personal growth. \nWHAT CAN YOU EXPECT?\nTHE PROGRAM\nJoin a vibrant community where village life and personal growth blend seamlessly. Whether you choose to share a cozy house or have your own private studio\, you can start each day with mindful activities that set the tone for focused work on your projects. Afternoons are dedicated to engaging workshops and insightful sessions designed to nurture your personal\, spiritual\, and professional growth. \nEvenings offer the perfect opportunity to connect—whether over a meal with welcoming locals or sharing experiences with our global community. On weekends\, we will explore the stunning area of Karpenisi and between all the magic you’ll find plenty of time to recharge\, and dive into your passion projects. This isn’t just another trip; it’s about truly living and embracing village life while getting your work done. \nIS THIS FOR YOU?\nAre you looking for a change of scenery and a supportive environment to reconnect?\nAre you tired of working from home alone? Are you excited to finally be part of a positive community?\nAre you ready to focus on your well-being\, professional growth\, and personal passions?\nHave you always dreamed of spending time in Greece and learning from its rich traditions?\nIf you answered “yes” to any of these questions\, Avnea Nomad Village is for you.\nEveryone in the community has their own reason to join. \nThis event runs in partnership with WORKFROMGREECE.GR by Marketing Greece. \nBook a call\nor\nApply to join
URL:https://workfromgreece.gr/event/avnea-village-central-greece/
LOCATION:Korischades\, Korischades\, Karpenisi\, Evrytania\, 361 00
CATEGORIES:Nomad Festival
ATTACH;FMTTYPE=image/jpeg:https://workfromgreece.gr/wp-content/uploads/2024/09/0f3935_fb021059b97c4d559711ab40b40903a6mv2.jpg
ORGANIZER;CN="AVNEA":MAILTO:lotus@avnea.com
END:VEVENT
BEGIN:VEVENT
DTSTART;VALUE=DATE:20240927
DTEND;VALUE=DATE:20240930
DTSTAMP:20260425T152732
CREATED:20240917T111713Z
LAST-MODIFIED:20240930T101150Z
UID:3665-1727395200-1727654399@workfromgreece.gr
SUMMARY:Athens Nomad Fest
DESCRIPTION:Athens Nomad Fest is not just another event; it’s a celebration of the digital nomad lifestyle and a platform for business development\, networking\, and collaboration. The goal is to bring together the brightest minds and the most passionate individuals from around the globe to share ideas\, build connections\, and inspire one another.  Τhis event covers a wide range of topics that are crucial for digital nomads and aspiring entrepreneurs: \n\nDigital Nomad Lifestyle: Explore the ins and outs of living and thriving as a digital nomad.\nStarting an Online Business: Gain insights and tips on launching and growing your online venture.\nBuilding a Community: Learn the importance of community and how to build a supportive network.\nFinance & Passive Income: Discover strategies for managing finances and generating passive income.\nProductivity & Time Management: Enhance your productivity and master time management.\nAI & Automation: Stay ahead with the latest AI and automation technologies.\n\nCheck the Program here \nWho is behind the Athens Nomad Fest? \nANF is organized by a team of four dynamic digital nomads:\nLotus\, Mahsa\, Dimitris and Markos. Learn more about their vision & values here. \n  \nThis event runs under the auspices of WORKFROMGREECE.GR by Marketing Greece.
URL:https://workfromgreece.gr/event/athens-nomad-fest/
LOCATION:Panteion University (to be confirmed)\, Andreas Syngrou Avenue 136 Fragoudi Pantou\, Kallithea\, Athens\, Attica\, 176 71\, Greece
ATTACH;FMTTYPE=image/png:https://workfromgreece.gr/wp-content/uploads/2024/09/home-2-1366x768-1.png
ORGANIZER;CN="ATHENS NOMAD FEST":MAILTO:info@athensnomadfest.com
END:VEVENT
END:VCALENDAR